BEGIN:VCALENDAR
VERSION:2.0
PRODID:-//Healing House KC - ECPv6.15.15//NONSGML v1.0//EN
CALSCALE:GREGORIAN
METHOD:PUBLISH
X-WR-CALNAME:Healing House KC
X-ORIGINAL-URL:https://healinghouse.org
X-WR-CALDESC:Events for Healing House KC
REFRESH-INTERVAL;VALUE=DURATION:PT1H
X-Robots-Tag:noindex
X-PUBLISHED-TTL:PT1H
BEGIN:VTIMEZONE
TZID:America/Chicago
BEGIN:DAYLIGHT
TZOFFSETFROM:-0600
TZOFFSETTO:-0500
TZNAME:CDT
DTSTART:20240310T080000
END:DAYLIGHT
BEGIN:STANDARD
TZOFFSETFROM:-0500
TZOFFSETTO:-0600
TZNAME:CST
DTSTART:20241103T070000
END:STANDARD
BEGIN:DAYLIGHT
TZOFFSETFROM:-0600
TZOFFSETTO:-0500
TZNAME:CDT
DTSTART:20250309T080000
END:DAYLIGHT
BEGIN:STANDARD
TZOFFSETFROM:-0500
TZOFFSETTO:-0600
TZNAME:CST
DTSTART:20251102T070000
END:STANDARD
BEGIN:DAYLIGHT
TZOFFSETFROM:-0600
TZOFFSETTO:-0500
TZNAME:CDT
DTSTART:20260308T080000
END:DAYLIGHT
BEGIN:STANDARD
TZOFFSETFROM:-0500
TZOFFSETTO:-0600
TZNAME:CST
DTSTART:20261101T070000
END:STANDARD
END:VTIMEZONE
BEGIN:VEVENT
DTSTART;TZID=America/Chicago:20250801T173000
DTEND;TZID=America/Chicago:20250801T193000
DTSTAMP:20260421T161436
CREATED:20250625T165621Z
LAST-MODIFIED:20250708T145324Z
UID:46057-1754069400-1754076600@healinghouse.org
SUMMARY:ALPHA
DESCRIPTION:ALpha worship and celebrations\nJoin us every Friday night to worship the Lord and celebrate our participants as they cross milestones. \nThere is Bible study\, dinner\, recovery meetings\, recovery celebrations\, guest speakers\, and more! This event is open to everyone so come and check it out!
URL:https://healinghouse.org/event/alpha/
LOCATION:Recovery Community Center\, 112 N Elmwood Ave Kansas City\, MO 64123
CATEGORIES:Community
ATTACH;FMTTYPE=image/jpeg:https://healinghouse.org/wp-content/uploads/2025/06/Placeholder.jpg
END:VEVENT
BEGIN:VEVENT
DTSTART;TZID=America/Chicago:20250801T193000
DTEND;TZID=America/Chicago:20250801T203000
DTSTAMP:20260421T161436
CREATED:20250625T170108Z
LAST-MODIFIED:20250708T145336Z
UID:46061-1754076600-1754080200@healinghouse.org
SUMMARY:Celebrations & Testimonies
DESCRIPTION:
URL:https://healinghouse.org/event/celebrations-testimonies/
LOCATION:Recovery Community Center\, 112 N Elmwood Ave Kansas City\, MO 64123
CATEGORIES:Community
ATTACH;FMTTYPE=image/jpeg:https://healinghouse.org/wp-content/uploads/2025/06/Placeholder.jpg
END:VEVENT
BEGIN:VEVENT
DTSTART;TZID=America/Chicago:20250802T090000
DTEND;TZID=America/Chicago:20250802T100000
DTSTAMP:20260421T161436
CREATED:20250625T170345Z
LAST-MODIFIED:20250708T145345Z
UID:46062-1754125200-1754128800@healinghouse.org
SUMMARY:Morning Meditation
DESCRIPTION:
URL:https://healinghouse.org/event/morning-meditation/
LOCATION:Recovery Community Center\, 112 N Elmwood Ave Kansas City\, MO 64123
CATEGORIES:Meetings
ATTACH;FMTTYPE=image/jpeg:https://healinghouse.org/wp-content/uploads/2025/06/Placeholder.jpg
END:VEVENT
BEGIN:VEVENT
DTSTART;TZID=America/Chicago:20250802T100000
DTEND;TZID=America/Chicago:20250802T110000
DTSTAMP:20260421T161436
CREATED:20250625T170548Z
LAST-MODIFIED:20250708T145356Z
UID:46063-1754128800-1754132400@healinghouse.org
SUMMARY:Mom's Recovery Group - OPEN
DESCRIPTION:
URL:https://healinghouse.org/event/moms-recovery-group-open/
LOCATION:Community Outreach Center\, 4428 St John Ave\, Kansas City\, MO 64123
CATEGORIES:Meetings
ATTACH;FMTTYPE=image/jpeg:https://healinghouse.org/wp-content/uploads/2025/06/Placeholder.jpg
END:VEVENT
BEGIN:VEVENT
DTSTART;TZID=America/Chicago:20250802T190000
DTEND;TZID=America/Chicago:20250802T200000
DTSTAMP:20260421T161436
CREATED:20250625T170737Z
LAST-MODIFIED:20250708T145405Z
UID:46064-1754161200-1754164800@healinghouse.org
SUMMARY:Recovery Meeting - OPEN
DESCRIPTION:This 12-step recovery program is designed to help individuals who struggle with addiction. The program is based on the principles of the 12-steps\, which include acknowledging powerlessness over addiction\, seeking help from a higher power\, and making amends for past behavior. Participants attend meetings and share their experiences with one another\, with the goal of achieving and maintaining sobriety. The program is open to anyone who wants to stop their addiction. \n(Note:  This group is not affiliated with Healing House) \nFor more information please call (816) 768-8350
URL:https://healinghouse.org/event/recovery-meeting-open/
LOCATION:Community Outreach Center\, 4428 St John Ave\, Kansas City\, MO 64123
CATEGORIES:Meetings
ATTACH;FMTTYPE=image/jpeg:https://healinghouse.org/wp-content/uploads/2025/06/Placeholder.jpg
END:VEVENT
END:VCALENDAR