BEGIN:VCALENDAR
VERSION:2.0
PRODID:-//Healing House KC - ECPv6.15.15//NONSGML v1.0//EN
CALSCALE:GREGORIAN
METHOD:PUBLISH
X-WR-CALNAME:Healing House KC
X-ORIGINAL-URL:https://healinghouse.org
X-WR-CALDESC:Events for Healing House KC
REFRESH-INTERVAL;VALUE=DURATION:PT1H
X-Robots-Tag:noindex
X-PUBLISHED-TTL:PT1H
BEGIN:VTIMEZONE
TZID:America/Chicago
BEGIN:DAYLIGHT
TZOFFSETFROM:-0600
TZOFFSETTO:-0500
TZNAME:CDT
DTSTART:20240310T080000
END:DAYLIGHT
BEGIN:STANDARD
TZOFFSETFROM:-0500
TZOFFSETTO:-0600
TZNAME:CST
DTSTART:20241103T070000
END:STANDARD
BEGIN:DAYLIGHT
TZOFFSETFROM:-0600
TZOFFSETTO:-0500
TZNAME:CDT
DTSTART:20250309T080000
END:DAYLIGHT
BEGIN:STANDARD
TZOFFSETFROM:-0500
TZOFFSETTO:-0600
TZNAME:CST
DTSTART:20251102T070000
END:STANDARD
BEGIN:DAYLIGHT
TZOFFSETFROM:-0600
TZOFFSETTO:-0500
TZNAME:CDT
DTSTART:20260308T080000
END:DAYLIGHT
BEGIN:STANDARD
TZOFFSETFROM:-0500
TZOFFSETTO:-0600
TZNAME:CST
DTSTART:20261101T070000
END:STANDARD
END:VTIMEZONE
BEGIN:VEVENT
DTSTART;TZID=America/Chicago:20250801T173000
DTEND;TZID=America/Chicago:20250801T193000
DTSTAMP:20260421T073036
CREATED:20250625T165621Z
LAST-MODIFIED:20250708T145324Z
UID:46057-1754069400-1754076600@healinghouse.org
SUMMARY:ALPHA
DESCRIPTION:ALpha worship and celebrations\nJoin us every Friday night to worship the Lord and celebrate our participants as they cross milestones. \nThere is Bible study\, dinner\, recovery meetings\, recovery celebrations\, guest speakers\, and more! This event is open to everyone so come and check it out!
URL:https://healinghouse.org/event/alpha/
LOCATION:Recovery Community Center\, 112 N Elmwood Ave Kansas City\, MO 64123
CATEGORIES:Community
ATTACH;FMTTYPE=image/jpeg:https://healinghouse.org/wp-content/uploads/2025/06/Placeholder.jpg
END:VEVENT
BEGIN:VEVENT
DTSTART;TZID=America/Chicago:20250731T180000
DTEND;TZID=America/Chicago:20250731T193000
DTSTAMP:20260421T073036
CREATED:20250625T164634Z
LAST-MODIFIED:20250708T145312Z
UID:46054-1753984800-1753990200@healinghouse.org
SUMMARY:Parenting & Relationship Skills Class
DESCRIPTION:7-week group Parenting & Relationship skills class\nThis group meets at the Healing House administrative building every Thursday from 5:30-7 PM. \nComing to this class will bring a deeper understanding of relationships\, how they work\, and what we need. This is not a behavior-focused class\, but an opportunity to recognize the basic human needs that all of us have and deserve. Everyone can benefit from this group; whether you have children or not.\nCertificate of Completion received at end of sessions with all requirements met.\n*If you are working with Child Protective Services\, this class is mandatory. \nPlease call Monica at  (505)-235-7261  Monday – Thursday from 2 pm – 8 pm to inquire about group space.
URL:https://healinghouse.org/event/parenting-relationship-skills-class/
LOCATION:Healing House Administration Building\, 4505 St. John Avenue\, Kansas City\, MO 64123
CATEGORIES:Meetings
ATTACH;FMTTYPE=image/jpeg:https://healinghouse.org/wp-content/uploads/2025/06/Placeholder.jpg
END:VEVENT
BEGIN:VEVENT
DTSTART;TZID=America/Chicago:20250731T180000
DTEND;TZID=America/Chicago:20250731T190000
DTSTAMP:20260421T073036
CREATED:20250625T164942Z
LAST-MODIFIED:20250708T145254Z
UID:46056-1753984800-1753988400@healinghouse.org
SUMMARY:SMART Recovery Meeting
DESCRIPTION:SMART Recovery is a science-based approach to  recovery\, emphasizing self-empowerment and evidence-based techniques. With a four-point system\, it guides individuals in building motivation\, coping with urges\, managing thoughts and behaviors\, and cultivating a balanced life. SMART Recovery meetings\, both in-person and online\, provide a supportive space for those seeking recovery\, embracing a flexible and customizable approach for various addictive behaviors.
URL:https://healinghouse.org/event/smart-recovery-meeting/
LOCATION:Community Outreach Center\, 4428 St John Ave\, Kansas City\, MO 64123
CATEGORIES:Meetings
ATTACH;FMTTYPE=image/jpeg:https://healinghouse.org/wp-content/uploads/2025/06/Placeholder.jpg
END:VEVENT
BEGIN:VEVENT
DTSTART;TZID=America/Chicago:20250730T180000
DTEND;TZID=America/Chicago:20250730T190000
DTSTAMP:20260421T073036
CREATED:20250625T164304Z
LAST-MODIFIED:20250708T145244Z
UID:46053-1753898400-1753902000@healinghouse.org
SUMMARY:Parents of Addicted Loved Ones (PAL)
DESCRIPTION:Parents of Addicted Loved Ones (PAL) is a support group that provides resources and education for parents and family members of individuals who struggle with addiction. The program is designed to help parents understand and cope with their loved one’s addiction\, while providing a safe and supportive environment for them to share their experiences with others who have similar challenges. PAL meetings include group discussions\, educational materials\, and resources for parents to access outside of the meetings. The program is open to anyone who has a loved one struggling with addiction\, regardless of the type of addiction or stage of recovery. \nFor more information please call (816) 768-8350
URL:https://healinghouse.org/event/parents-of-addicted-loved-ones-pal/
LOCATION:Community Outreach Center\, 4428 St John Ave\, Kansas City\, MO 64123
CATEGORIES:Community
ATTACH;FMTTYPE=image/jpeg:https://healinghouse.org/wp-content/uploads/2025/06/Placeholder.jpg
END:VEVENT
BEGIN:VEVENT
DTSTART;TZID=America/Chicago:20250729T180000
DTEND;TZID=America/Chicago:20250729T190000
DTSTAMP:20260421T073036
CREATED:20250625T162007Z
LAST-MODIFIED:20250708T145235Z
UID:46052-1753812000-1753815600@healinghouse.org
SUMMARY:Men's Recovery Meeting
DESCRIPTION:This is a 12-step recovery program designed to help men who struggle with drug addiction. The program is based on the principles of the 12-steps\, which include acknowledging powerlessness over addiction\, seeking help from a higher power\, and making amends for past behavior. Participants attend meetings and share their experiences with one another\, with the goal of achieving and maintaining sobriety. The program is open to anyone who wants to stop their addiction. \nFor more information please call (816) 768-8350
URL:https://healinghouse.org/event/mens-recovery-meeting/
LOCATION:Community Outreach Center\, 4428 St John Ave\, Kansas City\, MO 64123
CATEGORIES:Meetings
ATTACH;FMTTYPE=image/jpeg:https://healinghouse.org/wp-content/uploads/2025/06/Placeholder.jpg
END:VEVENT
BEGIN:VEVENT
DTSTART;TZID=America/Chicago:20250728T180000
DTEND;TZID=America/Chicago:20250728T190000
DTSTAMP:20260421T073036
CREATED:20250625T161224Z
LAST-MODIFIED:20250708T145217Z
UID:46051-1753725600-1753729200@healinghouse.org
SUMMARY:SCA
DESCRIPTION:Sexual Compulsive Anonymous is a 12-step program designed to help individuals who struggle with sexual addiction and compulsive behavior. The class focuses on the philosophy of the 12-steps\, which include admitting powerlessness\, seeking help from a higher power\, and making amends for past behavior. Participants are encouraged to share their experiences with one another in a safe and supportive environment\, with the goal of achieving a healthy and balanced sexual life. The program is open to anyone who wants to stop engaging in compulsive sexual behavior\, regardless of gender or sexual orientation. \nFor more information please call (816) 768-8350
URL:https://healinghouse.org/event/sexual-compulsive-anonymous/
LOCATION:Community Outreach Center\, 4428 St John Ave\, Kansas City\, MO 64123
CATEGORIES:Meetings
ATTACH;FMTTYPE=image/jpeg:https://healinghouse.org/wp-content/uploads/2025/06/Placeholder.jpg
END:VEVENT
BEGIN:VEVENT
DTSTART;TZID=America/Chicago:20250727T130000
DTEND;TZID=America/Chicago:20250727T140000
DTSTAMP:20260421T073036
CREATED:20250625T160209Z
LAST-MODIFIED:20250708T145154Z
UID:46047-1753621200-1753624800@healinghouse.org
SUMMARY:Recovery Meeting - CLOSED
DESCRIPTION:This is a 12-step recovery program designed to help individuals who struggle with drug addiction. The program is based on the principles of the 12-steps\, which include acknowledging powerlessness over addiction\, seeking help from a higher power\, and making amends for past behavior. Participants attend meetings and share their experiences with one another\, with the goal of achieving and maintaining sobriety. The program is for those who wants to stop their addiction. \n(Note:  This group is not affiliated with Healing House) \nFor more information please call (816) 768-8350
URL:https://healinghouse.org/event/recovery-meeting-closed/
LOCATION:Community Outreach Center\, 4428 St John Ave\, Kansas City\, MO 64123
CATEGORIES:Meetings
ATTACH;FMTTYPE=image/jpeg:https://healinghouse.org/wp-content/uploads/2025/06/Placeholder.jpg
END:VEVENT
BEGIN:VEVENT
DTSTART;TZID=America/Chicago:20250621T170000
DTEND;TZID=America/Chicago:20250621T210000
DTSTAMP:20260421T073036
CREATED:20250716T160148Z
LAST-MODIFIED:20250716T162456Z
UID:46233-1750525200-1750539600@healinghouse.org
SUMMARY:Rally For Recovery - Pickleball Tournament
DESCRIPTION:
URL:https://healinghouse.org/event/rally-for-recovery-pickleball-tournament/
LOCATION:SERV\, 9501 Metcalf Ave\, Overland Park\, KS 66212\, SERV\, 9501 Metcalf Ave\, Overland Park\, KS 66212
CATEGORIES:Events
ATTACH;FMTTYPE=image/jpeg:https://healinghouse.org/wp-content/uploads/2025/07/Rally-For-Recovery-Pickleball-Tournament.jpg
END:VEVENT
BEGIN:VEVENT
DTSTART;TZID=America/Chicago:20250428T130000
DTEND;TZID=America/Chicago:20250428T130000
DTSTAMP:20260421T073036
CREATED:20250716T162147Z
LAST-MODIFIED:20250716T162506Z
UID:46236-1745845200-1745845200@healinghouse.org
SUMMARY:Golf Tournament
DESCRIPTION:
URL:https://healinghouse.org/event/golf-tournament/
LOCATION:Oakwood Country Club\, 9800 Grandview Rd\, Kansas City\, MO 64137\, Oakwood Country Club\, 9800 Grandview Rd\, Kansas City\, MO 64137
CATEGORIES:Events
ATTACH;FMTTYPE=image/jpeg:https://healinghouse.org/wp-content/uploads/2025/07/Golf-Tournament.jpg
END:VEVENT
BEGIN:VEVENT
DTSTART;TZID=America/Chicago:20250426T110000
DTEND;TZID=America/Chicago:20250426T150000
DTSTAMP:20260421T073036
CREATED:20250716T162357Z
LAST-MODIFIED:20250716T162357Z
UID:46239-1745665200-1745679600@healinghouse.org
SUMMARY:Running of the Beds
DESCRIPTION:
URL:https://healinghouse.org/event/running-of-the-beds/
LOCATION:The Summit Church\, 3381 NW Chipman Rd\, Lee’s Summit\, MO 64081\, The Summit Church\, 3381 NW Chipman Rd\, Lee’s Summit\, MO 64081
CATEGORIES:Events
ATTACH;FMTTYPE=image/jpeg:https://healinghouse.org/wp-content/uploads/2025/07/Running-of-the-Beds.jpg
END:VEVENT
END:VCALENDAR