BEGIN:VCALENDAR
VERSION:2.0
PRODID:-//Healing House KC - ECPv6.15.15//NONSGML v1.0//EN
CALSCALE:GREGORIAN
METHOD:PUBLISH
X-WR-CALNAME:Healing House KC
X-ORIGINAL-URL:https://healinghouse.org
X-WR-CALDESC:Events for Healing House KC
REFRESH-INTERVAL;VALUE=DURATION:PT1H
X-Robots-Tag:noindex
X-PUBLISHED-TTL:PT1H
BEGIN:VTIMEZONE
TZID:America/Chicago
BEGIN:DAYLIGHT
TZOFFSETFROM:-0600
TZOFFSETTO:-0500
TZNAME:CDT
DTSTART:20240310T080000
END:DAYLIGHT
BEGIN:STANDARD
TZOFFSETFROM:-0500
TZOFFSETTO:-0600
TZNAME:CST
DTSTART:20241103T070000
END:STANDARD
BEGIN:DAYLIGHT
TZOFFSETFROM:-0600
TZOFFSETTO:-0500
TZNAME:CDT
DTSTART:20250309T080000
END:DAYLIGHT
BEGIN:STANDARD
TZOFFSETFROM:-0500
TZOFFSETTO:-0600
TZNAME:CST
DTSTART:20251102T070000
END:STANDARD
BEGIN:DAYLIGHT
TZOFFSETFROM:-0600
TZOFFSETTO:-0500
TZNAME:CDT
DTSTART:20260308T080000
END:DAYLIGHT
BEGIN:STANDARD
TZOFFSETFROM:-0500
TZOFFSETTO:-0600
TZNAME:CST
DTSTART:20261101T070000
END:STANDARD
END:VTIMEZONE
BEGIN:VEVENT
DTSTART;TZID=America/Chicago:20251025T090000
DTEND;TZID=America/Chicago:20251025T110000
DTSTAMP:20260421T142302
CREATED:20250731T202834Z
LAST-MODIFIED:20250801T185044Z
UID:46387-1761382800-1761390000@healinghouse.org
SUMMARY:Cliff Hanger Run
DESCRIPTION:Cliff Hanger Run (Benefiting Healing House KC)\nCliff Drive – East entrance near 4439 Gladstone Blvd.\, Kansas City\, Missouri 64123 \nJoin us in Kansas City’s Historic Northeast for a race that goes the extra mile! This event generously supports Healing House as the local Northeast non-profit. \nWith scenic views through the great outdoors\, the course promises an enjoyable run from start to finish. Whether you’re an athlete or a beginner\, your participation matters! \n \nRegister Today
URL:https://healinghouse.org/event/cliff-hanger-run/
LOCATION:Outdoor\, Cliff Dr\, Cliff Dr\, Kansas City\, MO\, USA
CATEGORIES:Events
ATTACH;FMTTYPE=image/png:https://healinghouse.org/wp-content/uploads/2025/07/event-cliff-hanger-run-2025.png
END:VEVENT
END:VCALENDAR