BEGIN:VCALENDAR
VERSION:2.0
PRODID:-//Healing House KC - ECPv6.15.15//NONSGML v1.0//EN
CALSCALE:GREGORIAN
METHOD:PUBLISH
X-ORIGINAL-URL:https://healinghouse.org
X-WR-CALDESC:Events for Healing House KC
REFRESH-INTERVAL;VALUE=DURATION:PT1H
X-Robots-Tag:noindex
X-PUBLISHED-TTL:PT1H
BEGIN:VTIMEZONE
TZID:America/Chicago
BEGIN:DAYLIGHT
TZOFFSETFROM:-0600
TZOFFSETTO:-0500
TZNAME:CDT
DTSTART:20240310T080000
END:DAYLIGHT
BEGIN:STANDARD
TZOFFSETFROM:-0500
TZOFFSETTO:-0600
TZNAME:CST
DTSTART:20241103T070000
END:STANDARD
BEGIN:DAYLIGHT
TZOFFSETFROM:-0600
TZOFFSETTO:-0500
TZNAME:CDT
DTSTART:20250309T080000
END:DAYLIGHT
BEGIN:STANDARD
TZOFFSETFROM:-0500
TZOFFSETTO:-0600
TZNAME:CST
DTSTART:20251102T070000
END:STANDARD
BEGIN:DAYLIGHT
TZOFFSETFROM:-0600
TZOFFSETTO:-0500
TZNAME:CDT
DTSTART:20260308T080000
END:DAYLIGHT
BEGIN:STANDARD
TZOFFSETFROM:-0500
TZOFFSETTO:-0600
TZNAME:CST
DTSTART:20261101T070000
END:STANDARD
END:VTIMEZONE
BEGIN:VEVENT
DTSTART;TZID=America/Chicago:20251010T180000
DTEND;TZID=America/Chicago:20251010T200000
DTSTAMP:20260421T142520
CREATED:20250716T155727Z
LAST-MODIFIED:20250730T235346Z
UID:46230-1760119200-1760126400@healinghouse.org
SUMMARY:2025 Welcome Home Gala
DESCRIPTION:Register by Monday\, September 23rd to get early access to our exciting Silent Auction for the 2025 Welcome Home Gala!\n \nRSVP to the 2025 Welcome Home Gala
URL:https://healinghouse.org/event/2025-welcome-home-gala/
LOCATION:Church of the Resurrection Foundry Hall\, 13720 Roe Avenue\, Leawood\, Kansas 66224
CATEGORIES:Events
ATTACH;FMTTYPE=image/png:https://healinghouse.org/wp-content/uploads/2025/07/event-welcome-home-gala-2025.png
END:VEVENT
END:VCALENDAR